BEGIN:VCALENDAR
VERSION:2.0
PRODID:-//ChamberMaster//Event Calendar 2.0//EN
METHOD:PUBLISH
X-PUBLISHED-TTL:P1H
REFRESH-INTERVAL:P1H
CALSCALE:GREGORIAN
BEGIN:VTIMEZONE
TZID:America/New_York
BEGIN:DAYLIGHT
RRULE:FREQ=YEARLY;BYMONTH=3;BYDAY=2SU
DTSTART:20070101T000000
TZOFFSETFROM:-0500
TZOFFSETTO:-0400
TZNAME:Eastern Daylight Time
END:DAYLIGHT
BEGIN:STANDARD
RRULE:FREQ=YEARLY;BYMONTH=11;BYDAY=1SU
DTSTART:20070101T000000
TZOFFSETFROM:-0400
TZOFFSETTO:-0500
TZNAME:Eastern Standard Time
END:STANDARD
END:VTIMEZONE
BEGIN:VEVENT
DTSTART;TZID=America/New_York:20260617T120000
DTEND;TZID=America/New_York:20260617T130000
X-MICROSOFT-CDO-ALLDAYEVENT:FALSE
SUMMARY:Sustainers that Stick: Myths\, Facts\, and Effective Techniques for Sustainer Acquisition
DESCRIPTION:Are you chasing monthly donors or building a foundation of long-term loyalty? In the rush to grow recurring revenue\, many organizations fall into the trap of high-volume acquisition that results in even higher attrition. To build a program that lasts\, nonprofits must move beyond "acquisition at any cost" and focus on the strategies that drive true Lifetime Value (LTV).Join us for a dynamic panel featuring three nonprofit leaders who have successfully cracked the code on retention-focused acquisition. Through a series of real-world case studies\, our experts will debunk common industry myths and share the techniques they used to identify\, convert\, and keep their most loyal supporters.What We'll Cover:Evidence-Based Acquisition\nAn honest look at which channels deliver high-volume leads versus high-value donors\, backed by performance data from the field.Sustainer Success in Action\nThree distinct case studies showcasing how different nonprofit organizations scaled their sustainer programs while maintaining industry-leading retention rates.The Retention-First Mindset\nPractical strategies to ensure your acquisition efforts are built for the long haul\, focusing on the donors most likely to stay for years\, not just months.Meet the Panel:Moderator\nKaty Jordan\, DMAW Board Member\, Principal & Founder\, Katy Jordan ConsultingPanelists\nJuanita Lopez-Poalillo\, Senior Manager\, Donor Retention & Engagement - F2F\, Oxfam America\nAlyssa Kaplan\, Director\, Direct Response\, The ALS Association\nLeslie VanSant\, Chief Advancement Officer\, The ALS AssociationDon't miss this opportunity to see sustainer success in action! REGISTER TODAY!
X-ALT-DESC;FMTTYPE=text/html:<!DOCTYPE html><html><head><title></title></head><body aria-disabled="false"><p style="text-align: center\;">Are you chasing monthly donors or building a foundation of long-term loyalty? In the rush to grow recurring revenue\, many organizations fall into the trap of high-volume acquisition that results in even higher attrition. To build a program that lasts\, nonprofits must move beyond &quot\;acquisition at any cost&quot\; and focus on the strategies that drive true Lifetime Value (LTV).</p><p style="text-align: center\;">Join us for a dynamic panel featuring <strong fr-original-style="" style="font-weight: 700\;">three nonprofit leaders</strong> who have successfully cracked the code on retention-focused acquisition. Through a series of real-world case studies\, our experts will debunk common industry myths and share the techniques they used to identify\, convert\, and keep their most loyal supporters.</p><hr fr-original-style="" style="clear: both\; user-select: none\; break-after: page\;"><p style="text-align: center\;"><strong fr-original-style="" style="font-weight: 700\;"><span style="font-size: 24px\;"><u>What We&rsquo\;ll Cover:</u></span></strong></p><p style="text-align: center\;"><strong fr-original-style="" style="font-weight: 700\;">Evidence-Based Acquisition<br></strong>An honest look at which channels deliver high-volume leads versus high-value donors\, backed by performance data from the field.</p><p style="text-align: center\;"><strong fr-original-style="" style="font-weight: 700\;">Sustainer Success in Action<br></strong>Three distinct case studies showcasing how different nonprofit organizations scaled their sustainer programs while maintaining industry-leading retention rates.</p><p style="text-align: center\;"><strong fr-original-style="" style="font-weight: 700\;">The Retention-First Mindset<br></strong>Practical strategies to ensure your acquisition efforts are built for the long haul\, focusing on the donors most likely to stay for years\, not just months.</p><hr fr-original-style="" style="clear: both\; user-select: none\; break-after: page\;"><p style="text-align: center\;"><strong fr-original-style="" style="font-weight: 700\;"><span style="font-size: 24px\;"><u>Meet the Panel:</u></span></strong></p><p style="text-align: center\;"><strong fr-original-style="" style="font-weight: 700\;">Moderator<em><u><br></u></em></strong>Katy Jordan\, DMAW Board Member\, Principal &amp\; Founder\, Katy Jordan Consulting</p><p style="text-align: center\;"><strong fr-original-style="" style="font-weight: 700\;">Panelists</strong><strong fr-original-style="" style="font-weight: 700\;"><em><u><br></u></em></strong>Juanita Lopez-Poalillo\, Senior Manager\, Donor Retention &amp\; Engagement - F2F\, Oxfam America<em><u><br></u></em>Alyssa Kaplan\, Director\, Direct Response\, The ALS Association<strong fr-original-style="" style="font-weight: 700\;"><em><u><br></u></em></strong>Leslie VanSant\, Chief Advancement Officer\, The ALS Association</p><p style="text-align: center\;"><strong fr-original-style="" style="font-weight: 700\;">Don&rsquo\;t miss this opportunity to see sustainer success in action! REGISTER TODAY!</strong></p></body></html>
LOCATION:
UID:e.1629.1449504
SEQUENCE:3
DTSTAMP:20260426T023954Z
URL:https://directmarketingassociationofwashingtondmaw.growthzoneapp.com/events/Details/sustainers-that-stick-myths-facts-and-effective-techniques-for-sustainer-acquisition-1716954?sourceTypeId=Hub
END:VEVENT
END:VCALENDAR
